BEGIN:VCALENDAR
VERSION:2.0
PRODID:-//Martin-Niemöller-Gesamtschule - ECPv6.15.20//NONSGML v1.0//EN
CALSCALE:GREGORIAN
METHOD:PUBLISH
X-WR-CALNAME:Martin-Niemöller-Gesamtschule
X-ORIGINAL-URL:https://www.mnge-bielefeld.de
X-WR-CALDESC:Veranstaltungen für Martin-Niemöller-Gesamtschule
REFRESH-INTERVAL;VALUE=DURATION:PT1H
X-Robots-Tag:noindex
X-PUBLISHED-TTL:PT1H
BEGIN:VTIMEZONE
TZID:Europe/Berlin
BEGIN:DAYLIGHT
TZOFFSETFROM:+0100
TZOFFSETTO:+0200
TZNAME:CEST
DTSTART:20220327T010000
END:DAYLIGHT
BEGIN:STANDARD
TZOFFSETFROM:+0200
TZOFFSETTO:+0100
TZNAME:CET
DTSTART:20221030T010000
END:STANDARD
BEGIN:DAYLIGHT
TZOFFSETFROM:+0100
TZOFFSETTO:+0200
TZNAME:CEST
DTSTART:20230326T010000
END:DAYLIGHT
BEGIN:STANDARD
TZOFFSETFROM:+0200
TZOFFSETTO:+0100
TZNAME:CET
DTSTART:20231029T010000
END:STANDARD
BEGIN:DAYLIGHT
TZOFFSETFROM:+0100
TZOFFSETTO:+0200
TZNAME:CEST
DTSTART:20240331T010000
END:DAYLIGHT
BEGIN:STANDARD
TZOFFSETFROM:+0200
TZOFFSETTO:+0100
TZNAME:CET
DTSTART:20241027T010000
END:STANDARD
END:VTIMEZONE
BEGIN:VTIMEZONE
TZID:UTC
BEGIN:STANDARD
TZOFFSETFROM:+0000
TZOFFSETTO:+0000
TZNAME:UTC
DTSTART:20220101T000000
END:STANDARD
END:VTIMEZONE
BEGIN:VEVENT
DTSTART;VALUE=DATE:20230403
DTEND;VALUE=DATE:20230416
DTSTAMP:20260419T171736
CREATED:20230206T164819Z
LAST-MODIFIED:20230228T050538Z
UID:10000295-1680480000-1681603199@www.mnge-bielefeld.de
SUMMARY:Osterferien
DESCRIPTION:Osterferien 2023 in Nordrhein-Westfalen – Importiert von Ferienwiki.de
URL:https://www.mnge-bielefeld.de/veranstaltung/osterferien/
CATEGORIES:Alle Veranstaltungen
END:VEVENT
BEGIN:VEVENT
DTSTART;VALUE=DATE:20230409
DTEND;VALUE=DATE:20230410
DTSTAMP:20260419T171736
CREATED:20221108T062147Z
LAST-MODIFIED:20230316T131923Z
UID:10000215-1680998400-1681084799@www.mnge-bielefeld.de
SUMMARY:Ostern (regionaler Feiertag)
DESCRIPTION:Gedenktag in Baden-Württemberg\, Bayern\, Berlin\, Brandenburg\, Bremen\, Hamburg\, Hessen\, Mecklenburg-Vorpommern\, Niedersachsen\, Nordrhein-Westfalen\, Rheinland-Pfalz\, Saarland\, Sachsen\, Sachsen-Anhalt\, Schleswig-Holstein\, Thüringen\nWenn Sie Gedenktage ausblenden möchten\, rufen Sie die Google Kalender-Einstellungen auf > Feiertage in Deutschland
URL:https://www.mnge-bielefeld.de/veranstaltung/ostern-regionaler-feiertag/
CATEGORIES:Alle Veranstaltungen
END:VEVENT
END:VCALENDAR