BEGIN:VCALENDAR
VERSION:2.0
PRODID:-//Martin-Niemöller-Gesamtschule - ECPv6.15.20//NONSGML v1.0//EN
CALSCALE:GREGORIAN
METHOD:PUBLISH
X-ORIGINAL-URL:https://www.mnge-bielefeld.de
X-WR-CALDESC:Veranstaltungen für Martin-Niemöller-Gesamtschule
REFRESH-INTERVAL;VALUE=DURATION:PT1H
X-Robots-Tag:noindex
X-PUBLISHED-TTL:PT1H
BEGIN:VTIMEZONE
TZID:Europe/Berlin
BEGIN:DAYLIGHT
TZOFFSETFROM:+0100
TZOFFSETTO:+0200
TZNAME:CEST
DTSTART:20220327T010000
END:DAYLIGHT
BEGIN:STANDARD
TZOFFSETFROM:+0200
TZOFFSETTO:+0100
TZNAME:CET
DTSTART:20221030T010000
END:STANDARD
BEGIN:DAYLIGHT
TZOFFSETFROM:+0100
TZOFFSETTO:+0200
TZNAME:CEST
DTSTART:20230326T010000
END:DAYLIGHT
BEGIN:STANDARD
TZOFFSETFROM:+0200
TZOFFSETTO:+0100
TZNAME:CET
DTSTART:20231029T010000
END:STANDARD
BEGIN:DAYLIGHT
TZOFFSETFROM:+0100
TZOFFSETTO:+0200
TZNAME:CEST
DTSTART:20240331T010000
END:DAYLIGHT
BEGIN:STANDARD
TZOFFSETFROM:+0200
TZOFFSETTO:+0100
TZNAME:CET
DTSTART:20241027T010000
END:STANDARD
END:VTIMEZONE
BEGIN:VEVENT
DTSTART;VALUE=DATE:20230515
DTEND;VALUE=DATE:20230516
DTSTAMP:20260419T154053
CREATED:20230206T164826Z
LAST-MODIFIED:20230228T050542Z
UID:10000320-1684108800-1684195199@www.mnge-bielefeld.de
SUMMARY:Jg. Q2\, schr. Abitur LK/GK D (Nachschreiber)
DESCRIPTION:
URL:https://www.mnge-bielefeld.de/veranstaltung/jg-q2-schr-abitur-lk-gk-d-nachschreiber/
CATEGORIES:Alle Veranstaltungen
END:VEVENT
BEGIN:VEVENT
DTSTART;TZID=Europe/Berlin:20230515T100000
DTEND;TZID=Europe/Berlin:20230515T140000
DTSTAMP:20260419T154053
CREATED:20230206T164826Z
LAST-MODIFIED:20230228T050542Z
UID:10000319-1684144800-1684159200@www.mnge-bielefeld.de
SUMMARY:Q2\, Abitur\, Sport-LK (Leichtathletik)
DESCRIPTION:
URL:https://www.mnge-bielefeld.de/veranstaltung/q2-abitur-sport-lk-leichtathletik-2/
LOCATION:Stadion Rußheide\, Mühlenstraße 121\, 33607 Bielefeld\, Deutschland
CATEGORIES:Alle Veranstaltungen
END:VEVENT
END:VCALENDAR