BEGIN:VCALENDAR
VERSION:2.0
PRODID:-//Martin-Niemöller-Gesamtschule - ECPv6.15.20//NONSGML v1.0//EN
CALSCALE:GREGORIAN
METHOD:PUBLISH
X-WR-CALNAME:Martin-Niemöller-Gesamtschule
X-ORIGINAL-URL:https://www.mnge-bielefeld.de
X-WR-CALDESC:Veranstaltungen für Martin-Niemöller-Gesamtschule
REFRESH-INTERVAL;VALUE=DURATION:PT1H
X-Robots-Tag:noindex
X-PUBLISHED-TTL:PT1H
BEGIN:VTIMEZONE
TZID:UTC
BEGIN:STANDARD
TZOFFSETFROM:+0000
TZOFFSETTO:+0000
TZNAME:UTC
DTSTART:20220101T000000
END:STANDARD
END:VTIMEZONE
BEGIN:VEVENT
DTSTART;VALUE=DATE:20230528
DTEND;VALUE=DATE:20230529
DTSTAMP:20260419T152514
CREATED:20221108T062149Z
LAST-MODIFIED:20230316T131924Z
UID:10000223-1685232000-1685318399@www.mnge-bielefeld.de
SUMMARY:Pfingsten (regionaler Feiertag)
DESCRIPTION:Gedenktag in Baden-Württemberg\, Bayern\, Berlin\, Brandenburg\, Bremen\, Hamburg\, Hessen\, Mecklenburg-Vorpommern\, Niedersachsen\, Nordrhein-Westfalen\, Rheinland-Pfalz\, Saarland\, Sachsen\, Sachsen-Anhalt\, Schleswig-Holstein\, Thüringen\nWenn Sie Gedenktage ausblenden möchten\, rufen Sie die Google Kalender-Einstellungen auf > Feiertage in Deutschland
URL:https://www.mnge-bielefeld.de/veranstaltung/pfingsten-regionaler-feiertag/
CATEGORIES:Alle Veranstaltungen
END:VEVENT
END:VCALENDAR