BEGIN:VCALENDAR
VERSION:2.0
PRODID:-//Martin-Niemöller-Gesamtschule - ECPv6.15.20//NONSGML v1.0//EN
CALSCALE:GREGORIAN
METHOD:PUBLISH
X-WR-CALNAME:Martin-Niemöller-Gesamtschule
X-ORIGINAL-URL:https://www.mnge-bielefeld.de
X-WR-CALDESC:Veranstaltungen für Martin-Niemöller-Gesamtschule
REFRESH-INTERVAL;VALUE=DURATION:PT1H
X-Robots-Tag:noindex
X-PUBLISHED-TTL:PT1H
BEGIN:VTIMEZONE
TZID:Europe/Berlin
BEGIN:DAYLIGHT
TZOFFSETFROM:+0100
TZOFFSETTO:+0200
TZNAME:CEST
DTSTART:20220327T010000
END:DAYLIGHT
BEGIN:STANDARD
TZOFFSETFROM:+0200
TZOFFSETTO:+0100
TZNAME:CET
DTSTART:20221030T010000
END:STANDARD
BEGIN:DAYLIGHT
TZOFFSETFROM:+0100
TZOFFSETTO:+0200
TZNAME:CEST
DTSTART:20230326T010000
END:DAYLIGHT
BEGIN:STANDARD
TZOFFSETFROM:+0200
TZOFFSETTO:+0100
TZNAME:CET
DTSTART:20231029T010000
END:STANDARD
BEGIN:DAYLIGHT
TZOFFSETFROM:+0100
TZOFFSETTO:+0200
TZNAME:CEST
DTSTART:20240331T010000
END:DAYLIGHT
BEGIN:STANDARD
TZOFFSETFROM:+0200
TZOFFSETTO:+0100
TZNAME:CET
DTSTART:20241027T010000
END:STANDARD
END:VTIMEZONE
BEGIN:VTIMEZONE
TZID:UTC
BEGIN:STANDARD
TZOFFSETFROM:+0000
TZOFFSETTO:+0000
TZNAME:UTC
DTSTART:20220101T000000
END:STANDARD
END:VTIMEZONE
BEGIN:VEVENT
DTSTART;TZID=Europe/Berlin:20230301T080000
DTEND;TZID=Europe/Berlin:20230301T160000
DTSTAMP:20260419T223936
CREATED:20230206T164817Z
LAST-MODIFIED:20230228T050537Z
UID:10000288-1677657600-1677686400@www.mnge-bielefeld.de
SUMMARY:Q1\, Teutolab II (nur alle mit BI-GK schriftlich)
DESCRIPTION:
URL:https://www.mnge-bielefeld.de/veranstaltung/q1-teutolab-ii-nur-alle-mit-bi-gk-schriftlich/
CATEGORIES:Alle Veranstaltungen
END:VEVENT
BEGIN:VEVENT
DTSTART;VALUE=DATE:20230303
DTEND;VALUE=DATE:20230304
DTSTAMP:20260419T223936
CREATED:20230206T164818Z
LAST-MODIFIED:20230228T050537Z
UID:10000290-1677801600-1677887999@www.mnge-bielefeld.de
SUMMARY:Vorabitur AF3
DESCRIPTION:
URL:https://www.mnge-bielefeld.de/veranstaltung/vorabitur-af3/
CATEGORIES:Alle Veranstaltungen
END:VEVENT
BEGIN:VEVENT
DTSTART;VALUE=DATE:20230304
DTEND;VALUE=DATE:20230305
DTSTAMP:20260419T223936
CREATED:20230206T164818Z
LAST-MODIFIED:20230228T050537Z
UID:10000289-1677888000-1677974399@www.mnge-bielefeld.de
SUMMARY:Flohmarkt
DESCRIPTION:
URL:https://www.mnge-bielefeld.de/veranstaltung/flohmarkt-2/
CATEGORIES:Alle Veranstaltungen
END:VEVENT
BEGIN:VEVENT
DTSTART;VALUE=DATE:20230307
DTEND;VALUE=DATE:20230311
DTSTAMP:20260419T223936
CREATED:20230206T164818Z
LAST-MODIFIED:20230228T050537Z
UID:10000291-1678147200-1678492799@www.mnge-bielefeld.de
SUMMARY:Bläserklassenfahrt
DESCRIPTION:
URL:https://www.mnge-bielefeld.de/veranstaltung/blaeserklassenfahrt/
CATEGORIES:Alle Veranstaltungen
END:VEVENT
BEGIN:VEVENT
DTSTART;VALUE=DATE:20230308
DTEND;VALUE=DATE:20230309
DTSTAMP:20260419T223936
CREATED:20221108T062146Z
LAST-MODIFIED:20230214T131803Z
UID:10000209-1678233600-1678319999@www.mnge-bielefeld.de
SUMMARY:Internationaler Frauentag (regionaler Feiertag)
DESCRIPTION:Gedenktag in Baden-Württemberg\, Bayern\, Berlin\, Brandenburg\, Bremen\, Hamburg\, Hessen\, Mecklenburg-Vorpommern\, Mecklenburg-Vorpommern\, Niedersachsen\, Nordrhein-Westfalen\, Rheinland-Pfalz\, Saarland\, Sachsen\, Sachsen-Anhalt\, Schleswig-Holstein\, Thüringen\nWenn Sie Gedenktage ausblenden möchten\, rufen Sie die Google Kalender-Einstellungen auf > Feiertage in Deutschland
URL:https://www.mnge-bielefeld.de/veranstaltung/internationaler-frauentag-regionaler-feiertag/
CATEGORIES:Alle Veranstaltungen
END:VEVENT
BEGIN:VEVENT
DTSTART;VALUE=DATE:20230316
DTEND;VALUE=DATE:20230318
DTSTAMP:20260419T223936
CREATED:20230206T164818Z
LAST-MODIFIED:20230228T050537Z
UID:10000293-1678924800-1679097599@www.mnge-bielefeld.de
SUMMARY:Q2 - Weimarfahrt
DESCRIPTION:
URL:https://www.mnge-bielefeld.de/veranstaltung/q2-weimarfahrt/
CATEGORIES:Alle Veranstaltungen
END:VEVENT
BEGIN:VEVENT
DTSTART;VALUE=DATE:20230318
DTEND;VALUE=DATE:20230319
DTSTAMP:20260419T223936
CREATED:20230206T164818Z
LAST-MODIFIED:20230228T050537Z
UID:10000292-1679097600-1679183999@www.mnge-bielefeld.de
SUMMARY:Bläserklassen-Jubiläum
DESCRIPTION:
URL:https://www.mnge-bielefeld.de/veranstaltung/blaeserklassen-jubilaeum/
CATEGORIES:Alle Veranstaltungen
END:VEVENT
BEGIN:VEVENT
DTSTART;VALUE=DATE:20230326
DTEND;VALUE=DATE:20230327
DTSTAMP:20260419T223936
CREATED:20221108T062147Z
LAST-MODIFIED:20230316T131907Z
UID:10000210-1679788800-1679875199@www.mnge-bielefeld.de
SUMMARY:Beginn der Sommerzeit
DESCRIPTION:Gedenktag\nWenn Sie Gedenktage ausblenden möchten\, rufen Sie die Google Kalender-Einstellungen auf > Feiertage in Deutschland
URL:https://www.mnge-bielefeld.de/veranstaltung/beginn-der-sommerzeit/
CATEGORIES:Alle Veranstaltungen
END:VEVENT
BEGIN:VEVENT
DTSTART;TZID=Europe/Berlin:20230331T080000
DTEND;TZID=Europe/Berlin:20230331T160000
DTSTAMP:20260419T223936
CREATED:20230206T164819Z
LAST-MODIFIED:20230228T050538Z
UID:10000294-1680249600-1680278400@www.mnge-bielefeld.de
SUMMARY:Q2\, letzter Schultag
DESCRIPTION:
URL:https://www.mnge-bielefeld.de/veranstaltung/q2-letzter-schultag/
CATEGORIES:Alle Veranstaltungen
END:VEVENT
END:VCALENDAR