BEGIN:VCALENDAR
VERSION:2.0
PRODID:-//Martin-Niemöller-Gesamtschule - ECPv6.15.20//NONSGML v1.0//EN
CALSCALE:GREGORIAN
METHOD:PUBLISH
X-WR-CALNAME:Martin-Niemöller-Gesamtschule
X-ORIGINAL-URL:https://www.mnge-bielefeld.de
X-WR-CALDESC:Veranstaltungen für Martin-Niemöller-Gesamtschule
REFRESH-INTERVAL;VALUE=DURATION:PT1H
X-Robots-Tag:noindex
X-PUBLISHED-TTL:PT1H
BEGIN:VTIMEZONE
TZID:UTC
BEGIN:STANDARD
TZOFFSETFROM:+0000
TZOFFSETTO:+0000
TZNAME:UTC
DTSTART:20220101T000000
END:STANDARD
END:VTIMEZONE
BEGIN:VTIMEZONE
TZID:Europe/Berlin
BEGIN:DAYLIGHT
TZOFFSETFROM:+0100
TZOFFSETTO:+0200
TZNAME:CEST
DTSTART:20220327T010000
END:DAYLIGHT
BEGIN:STANDARD
TZOFFSETFROM:+0200
TZOFFSETTO:+0100
TZNAME:CET
DTSTART:20221030T010000
END:STANDARD
BEGIN:DAYLIGHT
TZOFFSETFROM:+0100
TZOFFSETTO:+0200
TZNAME:CEST
DTSTART:20230326T010000
END:DAYLIGHT
BEGIN:STANDARD
TZOFFSETFROM:+0200
TZOFFSETTO:+0100
TZNAME:CET
DTSTART:20231029T010000
END:STANDARD
BEGIN:DAYLIGHT
TZOFFSETFROM:+0100
TZOFFSETTO:+0200
TZNAME:CEST
DTSTART:20240331T010000
END:DAYLIGHT
BEGIN:STANDARD
TZOFFSETFROM:+0200
TZOFFSETTO:+0100
TZNAME:CET
DTSTART:20241027T010000
END:STANDARD
END:VTIMEZONE
BEGIN:VEVENT
DTSTART;VALUE=DATE:20230501
DTEND;VALUE=DATE:20230502
DTSTAMP:20260419T135954
CREATED:20221108T062148Z
LAST-MODIFIED:20230316T131924Z
UID:10000217-1682899200-1682985599@www.mnge-bielefeld.de
SUMMARY:Tag der Arbeit
DESCRIPTION:Gesetzlicher Feiertag
URL:https://www.mnge-bielefeld.de/veranstaltung/tag-der-arbeit/
CATEGORIES:Alle Veranstaltungen
END:VEVENT
BEGIN:VEVENT
DTSTART;VALUE=DATE:20230502
DTEND;VALUE=DATE:20230503
DTSTAMP:20260419T135954
CREATED:20230206T164823Z
LAST-MODIFIED:20230228T050540Z
UID:10000309-1682985600-1683071999@www.mnge-bielefeld.de
SUMMARY:Jg. Q2\, schr. Abitur GK EK\, GE\, PA\, PL\, PS\, SW
DESCRIPTION:
URL:https://www.mnge-bielefeld.de/veranstaltung/jg-q2-schr-abitur-gk-ek-ge-pa-pl-ps-sw/
CATEGORIES:Alle Veranstaltungen
END:VEVENT
BEGIN:VEVENT
DTSTART;VALUE=DATE:20230503
DTEND;VALUE=DATE:20230504
DTSTAMP:20260419T135954
CREATED:20230206T164823Z
LAST-MODIFIED:20230228T050540Z
UID:10000308-1683072000-1683158399@www.mnge-bielefeld.de
SUMMARY:Jg. Q2\, schr. Abitur GK/LK M
DESCRIPTION:
URL:https://www.mnge-bielefeld.de/veranstaltung/jg-q2-schr-abitur-gk-lk-m/
CATEGORIES:Alle Veranstaltungen
END:VEVENT
BEGIN:VEVENT
DTSTART;VALUE=DATE:20230504
DTEND;VALUE=DATE:20230505
DTSTAMP:20260419T135954
CREATED:20230206T164823Z
LAST-MODIFIED:20230228T050540Z
UID:10000310-1683158400-1683244799@www.mnge-bielefeld.de
SUMMARY:Jg. 10\, ZP D
DESCRIPTION:
URL:https://www.mnge-bielefeld.de/veranstaltung/jg-10-zp-d/
CATEGORIES:Alle Veranstaltungen
END:VEVENT
BEGIN:VEVENT
DTSTART;VALUE=DATE:20230508
DTEND;VALUE=DATE:20230509
DTSTAMP:20260419T135954
CREATED:20221108T062148Z
LAST-MODIFIED:20230316T131924Z
UID:10000218-1683504000-1683590399@www.mnge-bielefeld.de
SUMMARY:Jahrestag der Befreiung vom Nationalsozialismus (regionaler Feiertag)
DESCRIPTION:Gedenktag in Berlin\, Brandenburg\, Bremen\, Mecklenburg-Vorpommern\, Thüringen\nWenn Sie Gedenktage ausblenden möchten\, rufen Sie die Google Kalender-Einstellungen auf > Feiertage in Deutschland
URL:https://www.mnge-bielefeld.de/veranstaltung/jahrestag-der-befreiung-vom-nationalsozialismus-regionaler-feiertag/
CATEGORIES:Alle Veranstaltungen
END:VEVENT
BEGIN:VEVENT
DTSTART;VALUE=DATE:20230508
DTEND;VALUE=DATE:20230509
DTSTAMP:20260419T135954
CREATED:20230206T164824Z
LAST-MODIFIED:20230228T050541Z
UID:10000315-1683504000-1683590399@www.mnge-bielefeld.de
SUMMARY:Jg. Q2\, schr. Abitur GK BI\, CH\, PH\, EL\, IF (Nachschreiber)
DESCRIPTION:
URL:https://www.mnge-bielefeld.de/veranstaltung/jg-q2-schr-abitur-gk-bi-ch-ph-el-if-nachschreiber/
CATEGORIES:Alle Veranstaltungen
END:VEVENT
BEGIN:VEVENT
DTSTART;VALUE=DATE:20230509
DTEND;VALUE=DATE:20230510
DTSTAMP:20260419T135954
CREATED:20230206T164823Z
LAST-MODIFIED:20230228T050541Z
UID:10000313-1683590400-1683676799@www.mnge-bielefeld.de
SUMMARY:Jg. Q2\, schr. Abitur LK GE\, KU\, PA\, PS\, SP (Nachschreiber)
DESCRIPTION:
URL:https://www.mnge-bielefeld.de/veranstaltung/jg-q2-schr-abitur-lk-ge-ku-pa-ps-sp-nachschreiber/
CATEGORIES:Alle Veranstaltungen
END:VEVENT
BEGIN:VEVENT
DTSTART;VALUE=DATE:20230509
DTEND;VALUE=DATE:20230510
DTSTAMP:20260419T135954
CREATED:20230206T164824Z
LAST-MODIFIED:20230228T050541Z
UID:10000314-1683590400-1683676799@www.mnge-bielefeld.de
SUMMARY:Jg. 10\, ZP E5
DESCRIPTION:
URL:https://www.mnge-bielefeld.de/veranstaltung/jg-10-zp-e5/
CATEGORIES:Alle Veranstaltungen
END:VEVENT
BEGIN:VEVENT
DTSTART;TZID=Europe/Berlin:20230509T100000
DTEND;TZID=Europe/Berlin:20230509T140000
DTSTAMP:20260419T135954
CREATED:20230206T164825Z
LAST-MODIFIED:20230228T050541Z
UID:10000316-1683626400-1683640800@www.mnge-bielefeld.de
SUMMARY:Q2\, Abitur\, Sport-LK (Leichtathletik)
DESCRIPTION:
URL:https://www.mnge-bielefeld.de/veranstaltung/q2-abitur-sport-lk-leichtathletik/
LOCATION:Stadion Rußheide\, Mühlenstraße 121\, 33607 Bielefeld\, Deutschland
CATEGORIES:Alle Veranstaltungen
END:VEVENT
BEGIN:VEVENT
DTSTART;VALUE=DATE:20230510
DTEND;VALUE=DATE:20230511
DTSTAMP:20260419T135954
CREATED:20230206T164823Z
LAST-MODIFIED:20230228T050541Z
UID:10000312-1683676800-1683763199@www.mnge-bielefeld.de
SUMMARY:Jg. Q2\, schr. Abitur GK L\, T (Nachschreiber)
DESCRIPTION:
URL:https://www.mnge-bielefeld.de/veranstaltung/jg-q2-schr-abitur-gk-l-t-nachschreiber/
CATEGORIES:Alle Veranstaltungen
END:VEVENT
BEGIN:VEVENT
DTSTART;VALUE=DATE:20230511
DTEND;VALUE=DATE:20230512
DTSTAMP:20260419T135954
CREATED:20230206T164823Z
LAST-MODIFIED:20230228T050541Z
UID:10000311-1683763200-1683849599@www.mnge-bielefeld.de
SUMMARY:Jg. Q2\, schr. Abitur LK/GK E (Nachschreiber)
DESCRIPTION:
URL:https://www.mnge-bielefeld.de/veranstaltung/jg-q2-schr-abitur-lk-gk-e-nachschreiber/
CATEGORIES:Alle Veranstaltungen
END:VEVENT
BEGIN:VEVENT
DTSTART;VALUE=DATE:20230511
DTEND;VALUE=DATE:20230512
DTSTAMP:20260419T135954
CREATED:20230206T164826Z
LAST-MODIFIED:20230228T050542Z
UID:10000318-1683763200-1683849599@www.mnge-bielefeld.de
SUMMARY:Jg. 10\, ZP M
DESCRIPTION:
URL:https://www.mnge-bielefeld.de/veranstaltung/jg-10-zp-m/
CATEGORIES:Alle Veranstaltungen
END:VEVENT
BEGIN:VEVENT
DTSTART;VALUE=DATE:20230512
DTEND;VALUE=DATE:20230513
DTSTAMP:20260419T135954
CREATED:20230206T164826Z
LAST-MODIFIED:20230228T050542Z
UID:10000317-1683849600-1683935999@www.mnge-bielefeld.de
SUMMARY:Jg. Q2\, schr. Abitur GK S (Nachschreiber)
DESCRIPTION:
URL:https://www.mnge-bielefeld.de/veranstaltung/jg-q2-schr-abitur-gk-s-nachschreiber/
CATEGORIES:Alle Veranstaltungen
END:VEVENT
BEGIN:VEVENT
DTSTART;VALUE=DATE:20230514
DTEND;VALUE=DATE:20230515
DTSTAMP:20260419T135954
CREATED:20221108T062148Z
LAST-MODIFIED:20230316T131924Z
UID:10000219-1684022400-1684108799@www.mnge-bielefeld.de
SUMMARY:Muttertag
DESCRIPTION:Gedenktag\nWenn Sie Gedenktage ausblenden möchten\, rufen Sie die Google Kalender-Einstellungen auf > Feiertage in Deutschland
URL:https://www.mnge-bielefeld.de/veranstaltung/muttertag/
CATEGORIES:Alle Veranstaltungen
END:VEVENT
BEGIN:VEVENT
DTSTART;VALUE=DATE:20230515
DTEND;VALUE=DATE:20230516
DTSTAMP:20260419T135954
CREATED:20230206T164826Z
LAST-MODIFIED:20230228T050542Z
UID:10000320-1684108800-1684195199@www.mnge-bielefeld.de
SUMMARY:Jg. Q2\, schr. Abitur LK/GK D (Nachschreiber)
DESCRIPTION:
URL:https://www.mnge-bielefeld.de/veranstaltung/jg-q2-schr-abitur-lk-gk-d-nachschreiber/
CATEGORIES:Alle Veranstaltungen
END:VEVENT
BEGIN:VEVENT
DTSTART;TZID=Europe/Berlin:20230515T100000
DTEND;TZID=Europe/Berlin:20230515T140000
DTSTAMP:20260419T135954
CREATED:20230206T164826Z
LAST-MODIFIED:20230228T050542Z
UID:10000319-1684144800-1684159200@www.mnge-bielefeld.de
SUMMARY:Q2\, Abitur\, Sport-LK (Leichtathletik)
DESCRIPTION:
URL:https://www.mnge-bielefeld.de/veranstaltung/q2-abitur-sport-lk-leichtathletik-2/
LOCATION:Stadion Rußheide\, Mühlenstraße 121\, 33607 Bielefeld\, Deutschland
CATEGORIES:Alle Veranstaltungen
END:VEVENT
BEGIN:VEVENT
DTSTART;VALUE=DATE:20230516
DTEND;VALUE=DATE:20230517
DTSTAMP:20260419T135954
CREATED:20230206T164827Z
LAST-MODIFIED:20230228T050543Z
UID:10000321-1684195200-1684281599@www.mnge-bielefeld.de
SUMMARY:Jg. Q2\, schr. Abitur GK EK\, GE\, PA\, PL\, PS\, SW (Nachschreiber)
DESCRIPTION:
URL:https://www.mnge-bielefeld.de/veranstaltung/jg-q2-schr-abitur-gk-ek-ge-pa-pl-ps-sw-nachschreiber/
CATEGORIES:Alle Veranstaltungen
END:VEVENT
BEGIN:VEVENT
DTSTART;TZID=Europe/Berlin:20230516T080000
DTEND;TZID=Europe/Berlin:20230516T160000
DTSTAMP:20260419T135954
CREATED:20230206T164827Z
LAST-MODIFIED:20230228T050543Z
UID:10000323-1684224000-1684252800@www.mnge-bielefeld.de
SUMMARY:Q2\, mündliche Prüfung im 4. Fach
DESCRIPTION:
URL:https://www.mnge-bielefeld.de/veranstaltung/q2-muendliche-pruefung-im-4-fach/
CATEGORIES:Alle Veranstaltungen
END:VEVENT
BEGIN:VEVENT
DTSTART;TZID=Europe/Berlin:20230516T130000
DTEND;TZID=Europe/Berlin:20230516T163000
DTSTAMP:20260419T135954
CREATED:20230206T164827Z
LAST-MODIFIED:20230228T050543Z
UID:10000322-1684242000-1684254600@www.mnge-bielefeld.de
SUMMARY:Sponsorenlauf
DESCRIPTION:
URL:https://www.mnge-bielefeld.de/veranstaltung/sponsorenlauf/
CATEGORIES:Alle Veranstaltungen
END:VEVENT
BEGIN:VEVENT
DTSTART;VALUE=DATE:20230517
DTEND;VALUE=DATE:20230518
DTSTAMP:20260419T135954
CREATED:20230206T164827Z
LAST-MODIFIED:20230228T050543Z
UID:10000324-1684281600-1684367999@www.mnge-bielefeld.de
SUMMARY:Jg. Q2\, schr. Abitur GK/LK M (Nachschreiber)
DESCRIPTION:
URL:https://www.mnge-bielefeld.de/veranstaltung/jg-q2-schr-abitur-gk-lk-m-nachschreiber/
CATEGORIES:Alle Veranstaltungen
END:VEVENT
BEGIN:VEVENT
DTSTART;TZID=Europe/Berlin:20230517T080000
DTEND;TZID=Europe/Berlin:20230517T160000
DTSTAMP:20260419T135954
CREATED:20230206T164827Z
LAST-MODIFIED:20230228T050543Z
UID:10000325-1684310400-1684339200@www.mnge-bielefeld.de
SUMMARY:Q2\, mündliche Prüfung im 4. Fach
DESCRIPTION:
URL:https://www.mnge-bielefeld.de/veranstaltung/q2-muendliche-pruefung-im-4-fach-2/
CATEGORIES:Alle Veranstaltungen
END:VEVENT
BEGIN:VEVENT
DTSTART;VALUE=DATE:20230518
DTEND;VALUE=DATE:20230519
DTSTAMP:20260419T135954
CREATED:20221108T062148Z
LAST-MODIFIED:20230316T131924Z
UID:10000220-1684368000-1684454399@www.mnge-bielefeld.de
SUMMARY:Vatertag
DESCRIPTION:Gedenktag\nWenn Sie Gedenktage ausblenden möchten\, rufen Sie die Google Kalender-Einstellungen auf > Feiertage in Deutschland
URL:https://www.mnge-bielefeld.de/veranstaltung/vatertag/
CATEGORIES:Alle Veranstaltungen
END:VEVENT
BEGIN:VEVENT
DTSTART;VALUE=DATE:20230518
DTEND;VALUE=DATE:20230519
DTSTAMP:20260419T135954
CREATED:20221108T062149Z
LAST-MODIFIED:20230316T131924Z
UID:10000221-1684368000-1684454399@www.mnge-bielefeld.de
SUMMARY:Christi Himmelfahrt
DESCRIPTION:Gesetzlicher Feiertag
URL:https://www.mnge-bielefeld.de/veranstaltung/christi-himmelfahrt/
CATEGORIES:Alle Veranstaltungen
END:VEVENT
BEGIN:VEVENT
DTSTART;VALUE=DATE:20230519
DTEND;VALUE=DATE:20230520
DTSTAMP:20260419T135954
CREATED:20230206T164828Z
LAST-MODIFIED:20230228T050543Z
UID:10000326-1684454400-1684540799@www.mnge-bielefeld.de
SUMMARY:beweglicher Ferientag (schulfrei)
DESCRIPTION:
URL:https://www.mnge-bielefeld.de/veranstaltung/beweglicher-ferientag-schulfrei-3/
CATEGORIES:Alle Veranstaltungen
END:VEVENT
BEGIN:VEVENT
DTSTART;VALUE=DATE:20230522
DTEND;VALUE=DATE:20230527
DTSTAMP:20260419T135954
CREATED:20230206T164828Z
LAST-MODIFIED:20230228T050544Z
UID:10000329-1684713600-1685145599@www.mnge-bielefeld.de
SUMMARY:Q1\, Projektwoche LK SP
DESCRIPTION:
URL:https://www.mnge-bielefeld.de/veranstaltung/q1-projektwoche-lk-sp/
CATEGORIES:Alle Veranstaltungen
END:VEVENT
BEGIN:VEVENT
DTSTART;VALUE=DATE:20230522
DTEND;VALUE=DATE:20230528
DTSTAMP:20260419T135954
CREATED:20230206T164829Z
LAST-MODIFIED:20230228T050544Z
UID:10000332-1684713600-1685231999@www.mnge-bielefeld.de
SUMMARY:Q1\, Studienfahrt der LK’s KU\, GE\, PA\, PS
DESCRIPTION:
URL:https://www.mnge-bielefeld.de/veranstaltung/q1-studienfahrt-der-lks-ku-ge-pa-ps/
CATEGORIES:Alle Veranstaltungen
END:VEVENT
BEGIN:VEVENT
DTSTART;TZID=Europe/Berlin:20230523T090000
DTEND;TZID=Europe/Berlin:20230523T130000
DTSTAMP:20260419T135954
CREATED:20230206T164828Z
LAST-MODIFIED:20230228T050544Z
UID:10000327-1684832400-1684846800@www.mnge-bielefeld.de
SUMMARY:Q2\, Abitur\, Sport-LK (Volleyball)\, S1-S3
DESCRIPTION:
URL:https://www.mnge-bielefeld.de/veranstaltung/q2-abitur-sport-lk-volleyball-s1-s3/
LOCATION:Martin-Niemöller-Gesamtschule\, Apfelstraße 210\, 33611 Bielefeld\, Deutschland
CATEGORIES:Alle Veranstaltungen
END:VEVENT
BEGIN:VEVENT
DTSTART;TZID=Europe/Berlin:20230523T143000
DTEND;TZID=Europe/Berlin:20230523T160000
DTSTAMP:20260419T135954
CREATED:20230522T181117Z
LAST-MODIFIED:20230522T181117Z
UID:10000359-1684852200-1684857600@www.mnge-bielefeld.de
SUMMARY:Elterncafé in der Mensa
DESCRIPTION:Gemeinsam Tee/Kaffee trinken\, plaudern\, sich kennenlernen\, austauschen\, Fragen stellen\, …
URL:https://www.mnge-bielefeld.de/veranstaltung/elterncafe-in-der-mensa/
END:VEVENT
BEGIN:VEVENT
DTSTART;VALUE=DATE:20230524
DTEND;VALUE=DATE:20230526
DTSTAMP:20260419T135954
CREATED:20230206T164829Z
LAST-MODIFIED:20230228T050544Z
UID:10000330-1684886400-1685059199@www.mnge-bielefeld.de
SUMMARY:Jg. 9\, mündliche Prüfung E5
DESCRIPTION:
URL:https://www.mnge-bielefeld.de/veranstaltung/jg-9-muendliche-pruefung-e5/
CATEGORIES:Alle Veranstaltungen
END:VEVENT
BEGIN:VEVENT
DTSTART;TZID=Europe/Berlin:20230524T081500
DTEND;TZID=Europe/Berlin:20230524T095500
DTSTAMP:20260419T135954
CREATED:20230206T164828Z
LAST-MODIFIED:20230228T050544Z
UID:10000328-1684916100-1684922100@www.mnge-bielefeld.de
SUMMARY:EF\, Zentrale Klausur D
DESCRIPTION:
URL:https://www.mnge-bielefeld.de/veranstaltung/ef-zentrale-klausur-d/
CATEGORIES:Alle Veranstaltungen
END:VEVENT
END:VCALENDAR