BEGIN:VCALENDAR
VERSION:2.0
PRODID:-//Martin-Niemöller-Gesamtschule - ECPv6.15.20//NONSGML v1.0//EN
CALSCALE:GREGORIAN
METHOD:PUBLISH
X-ORIGINAL-URL:https://www.mnge-bielefeld.de
X-WR-CALDESC:Veranstaltungen für Martin-Niemöller-Gesamtschule
REFRESH-INTERVAL;VALUE=DURATION:PT1H
X-Robots-Tag:noindex
X-PUBLISHED-TTL:PT1H
BEGIN:VTIMEZONE
TZID:Europe/Berlin
BEGIN:DAYLIGHT
TZOFFSETFROM:+0100
TZOFFSETTO:+0200
TZNAME:CEST
DTSTART:20220327T010000
END:DAYLIGHT
BEGIN:STANDARD
TZOFFSETFROM:+0200
TZOFFSETTO:+0100
TZNAME:CET
DTSTART:20221030T010000
END:STANDARD
BEGIN:DAYLIGHT
TZOFFSETFROM:+0100
TZOFFSETTO:+0200
TZNAME:CEST
DTSTART:20230326T010000
END:DAYLIGHT
BEGIN:STANDARD
TZOFFSETFROM:+0200
TZOFFSETTO:+0100
TZNAME:CET
DTSTART:20231029T010000
END:STANDARD
BEGIN:DAYLIGHT
TZOFFSETFROM:+0100
TZOFFSETTO:+0200
TZNAME:CEST
DTSTART:20240331T010000
END:DAYLIGHT
BEGIN:STANDARD
TZOFFSETFROM:+0200
TZOFFSETTO:+0100
TZNAME:CET
DTSTART:20241027T010000
END:STANDARD
END:VTIMEZONE
BEGIN:VEVENT
DTSTART;VALUE=DATE:20230120
DTEND;VALUE=DATE:20230129
DTSTAMP:20260420T095239
CREATED:20230112T203703Z
LAST-MODIFIED:20230112T203703Z
UID:10000261-1674172800-1674950399@www.mnge-bielefeld.de
SUMMARY:Ski-Kompaktkurs (Jahrgang Q1)
DESCRIPTION:
URL:https://www.mnge-bielefeld.de/veranstaltung/ski-kompaktkurs-jahrgang-q1/
END:VEVENT
BEGIN:VEVENT
DTSTART;VALUE=DATE:20230124
DTEND;VALUE=DATE:20230125
DTSTAMP:20260420T095239
CREATED:20230112T203445Z
LAST-MODIFIED:20230112T203445Z
UID:10000260-1674518400-1674604799@www.mnge-bielefeld.de
SUMMARY:Schulsprechstunde der Agentur für Arbeit (Jahrgang Q2)
DESCRIPTION:
URL:https://www.mnge-bielefeld.de/veranstaltung/schulsprechstunde-der-agentur-fuer-arbeit-jahrgang-q2/
END:VEVENT
BEGIN:VEVENT
DTSTART;TZID=Europe/Berlin:20230126T183000
DTEND;TZID=Europe/Berlin:20230126T183000
DTSTAMP:20260420T095239
CREATED:20230112T203134Z
LAST-MODIFIED:20230112T203134Z
UID:10000258-1674757800-1674757800@www.mnge-bielefeld.de
SUMMARY:Informationsabend für Eltern
DESCRIPTION:Wir möchten Ihnen unsere Arbeit – zum Beispiel das Konzept der Bläserklassen – und unsere Schule mit allen ihren Möglichkeiten vorstellen.
URL:https://www.mnge-bielefeld.de/veranstaltung/informationsabend-fuer-eltern/
END:VEVENT
END:VCALENDAR