BEGIN:VCALENDAR
VERSION:2.0
PRODID:-//Martin-Niemöller-Gesamtschule - ECPv6.15.20//NONSGML v1.0//EN
CALSCALE:GREGORIAN
METHOD:PUBLISH
X-ORIGINAL-URL:https://www.mnge-bielefeld.de
X-WR-CALDESC:Veranstaltungen für Martin-Niemöller-Gesamtschule
REFRESH-INTERVAL;VALUE=DURATION:PT1H
X-Robots-Tag:noindex
X-PUBLISHED-TTL:PT1H
BEGIN:VTIMEZONE
TZID:UTC
BEGIN:STANDARD
TZOFFSETFROM:+0000
TZOFFSETTO:+0000
TZNAME:UTC
DTSTART:20220101T000000
END:STANDARD
END:VTIMEZONE
BEGIN:VTIMEZONE
TZID:Europe/Berlin
BEGIN:DAYLIGHT
TZOFFSETFROM:+0100
TZOFFSETTO:+0200
TZNAME:CEST
DTSTART:20220327T010000
END:DAYLIGHT
BEGIN:STANDARD
TZOFFSETFROM:+0200
TZOFFSETTO:+0100
TZNAME:CET
DTSTART:20221030T010000
END:STANDARD
BEGIN:DAYLIGHT
TZOFFSETFROM:+0100
TZOFFSETTO:+0200
TZNAME:CEST
DTSTART:20230326T010000
END:DAYLIGHT
BEGIN:STANDARD
TZOFFSETFROM:+0200
TZOFFSETTO:+0100
TZNAME:CET
DTSTART:20231029T010000
END:STANDARD
BEGIN:DAYLIGHT
TZOFFSETFROM:+0100
TZOFFSETTO:+0200
TZNAME:CEST
DTSTART:20240331T010000
END:DAYLIGHT
BEGIN:STANDARD
TZOFFSETFROM:+0200
TZOFFSETTO:+0100
TZNAME:CET
DTSTART:20241027T010000
END:STANDARD
END:VTIMEZONE
BEGIN:VEVENT
DTSTART;VALUE=DATE:20230220
DTEND;VALUE=DATE:20230221
DTSTAMP:20260420T080558
CREATED:20221108T062146Z
LAST-MODIFIED:20230214T131802Z
UID:10000206-1676851200-1676937599@www.mnge-bielefeld.de
SUMMARY:Rosenmontag
DESCRIPTION:Gedenktag\nWenn Sie Gedenktage ausblenden möchten\, rufen Sie die Google Kalender-Einstellungen auf > Feiertage in Deutschland
URL:https://www.mnge-bielefeld.de/veranstaltung/rosenmontag/
CATEGORIES:Alle Veranstaltungen
END:VEVENT
BEGIN:VEVENT
DTSTART;VALUE=DATE:20230220
DTEND;VALUE=DATE:20230221
DTSTAMP:20260420T080558
CREATED:20230112T204308Z
LAST-MODIFIED:20230112T204308Z
UID:10000265-1676851200-1676937599@www.mnge-bielefeld.de
SUMMARY:Beweglicher Ferientag (schulfrei)
DESCRIPTION:
URL:https://www.mnge-bielefeld.de/veranstaltung/beweglicher-ferientag-schulfrei/
END:VEVENT
BEGIN:VEVENT
DTSTART;VALUE=DATE:20230221
DTEND;VALUE=DATE:20230222
DTSTAMP:20260420T080558
CREATED:20221108T062146Z
LAST-MODIFIED:20230214T131803Z
UID:10000208-1676937600-1677023999@www.mnge-bielefeld.de
SUMMARY:Faschingsdienstag
DESCRIPTION:Gedenktag\nWenn Sie Gedenktage ausblenden möchten\, rufen Sie die Google Kalender-Einstellungen auf > Feiertage in Deutschland
URL:https://www.mnge-bielefeld.de/veranstaltung/faschingsdienstag/
CATEGORIES:Alle Veranstaltungen
END:VEVENT
BEGIN:VEVENT
DTSTART;VALUE=DATE:20230221
DTEND;VALUE=DATE:20230222
DTSTAMP:20260420T080558
CREATED:20230206T164816Z
LAST-MODIFIED:20230221T043249Z
UID:10000283-1676937600-1677023999@www.mnge-bielefeld.de
SUMMARY:SchiLF-Tag
DESCRIPTION:
URL:https://www.mnge-bielefeld.de/veranstaltung/schilf-tag/
CATEGORIES:Alle Veranstaltungen
END:VEVENT
BEGIN:VEVENT
DTSTART;VALUE=DATE:20230221
DTEND;VALUE=DATE:20230222
DTSTAMP:20260420T080558
CREATED:20230206T164816Z
LAST-MODIFIED:20230221T043252Z
UID:10000285-1676937600-1677023999@www.mnge-bielefeld.de
SUMMARY:Q1\, Info-Veranst. der Agentur für Arbeit zur Studien- und Berufswahl (5 Gruppen\, 2 Std.)
DESCRIPTION:
URL:https://www.mnge-bielefeld.de/veranstaltung/q1-info-veranst-der-agentur-fuer-arbeit-zur-studien-und-berufswahl-5-gruppen-2-std/
CATEGORIES:Alle Veranstaltungen
END:VEVENT
BEGIN:VEVENT
DTSTART;VALUE=DATE:20230222
DTEND;VALUE=DATE:20230223
DTSTAMP:20260420T080558
CREATED:20221108T062146Z
LAST-MODIFIED:20230214T131803Z
UID:10000207-1677024000-1677110399@www.mnge-bielefeld.de
SUMMARY:Aschermittwoch
DESCRIPTION:Gedenktag\nWenn Sie Gedenktage ausblenden möchten\, rufen Sie die Google Kalender-Einstellungen auf > Feiertage in Deutschland
URL:https://www.mnge-bielefeld.de/veranstaltung/aschermittwoch/
CATEGORIES:Alle Veranstaltungen
END:VEVENT
BEGIN:VEVENT
DTSTART;VALUE=DATE:20230223
DTEND;VALUE=DATE:20230224
DTSTAMP:20260420T080558
CREATED:20230206T164817Z
LAST-MODIFIED:20230223T044644Z
UID:10000286-1677110400-1677196799@www.mnge-bielefeld.de
SUMMARY:Vorabitur LK1
DESCRIPTION:
URL:https://www.mnge-bielefeld.de/veranstaltung/vorabitur-lk1/
CATEGORIES:Alle Veranstaltungen
END:VEVENT
END:VCALENDAR