BEGIN:VCALENDAR
VERSION:2.0
PRODID:-//Martin-Niemöller-Gesamtschule - ECPv6.15.20//NONSGML v1.0//EN
CALSCALE:GREGORIAN
METHOD:PUBLISH
X-ORIGINAL-URL:https://www.mnge-bielefeld.de
X-WR-CALDESC:Veranstaltungen für Martin-Niemöller-Gesamtschule
REFRESH-INTERVAL;VALUE=DURATION:PT1H
X-Robots-Tag:noindex
X-PUBLISHED-TTL:PT1H
BEGIN:VTIMEZONE
TZID:Europe/Berlin
BEGIN:DAYLIGHT
TZOFFSETFROM:+0100
TZOFFSETTO:+0200
TZNAME:CEST
DTSTART:20220327T010000
END:DAYLIGHT
BEGIN:STANDARD
TZOFFSETFROM:+0200
TZOFFSETTO:+0100
TZNAME:CET
DTSTART:20221030T010000
END:STANDARD
BEGIN:DAYLIGHT
TZOFFSETFROM:+0100
TZOFFSETTO:+0200
TZNAME:CEST
DTSTART:20230326T010000
END:DAYLIGHT
BEGIN:STANDARD
TZOFFSETFROM:+0200
TZOFFSETTO:+0100
TZNAME:CET
DTSTART:20231029T010000
END:STANDARD
BEGIN:DAYLIGHT
TZOFFSETFROM:+0100
TZOFFSETTO:+0200
TZNAME:CEST
DTSTART:20240331T010000
END:DAYLIGHT
BEGIN:STANDARD
TZOFFSETFROM:+0200
TZOFFSETTO:+0100
TZNAME:CET
DTSTART:20241027T010000
END:STANDARD
END:VTIMEZONE
BEGIN:VEVENT
DTSTART;VALUE=DATE:20230424
DTEND;VALUE=DATE:20230425
DTSTAMP:20260419T225022
CREATED:20230206T164821Z
LAST-MODIFIED:20230228T050539Z
UID:10000304-1682294400-1682380799@www.mnge-bielefeld.de
SUMMARY:Jg. Q2\, schr. Abitur GK L\, T
DESCRIPTION:
URL:https://www.mnge-bielefeld.de/veranstaltung/jg-q2-schr-abitur-gk-l-t/
CATEGORIES:Alle Veranstaltungen
END:VEVENT
BEGIN:VEVENT
DTSTART;TZID=Europe/Berlin:20230424T110000
DTEND;TZID=Europe/Berlin:20230424T120000
DTSTAMP:20260419T225022
CREATED:20230206T164820Z
LAST-MODIFIED:20230228T050539Z
UID:10000302-1682334000-1682337600@www.mnge-bielefeld.de
SUMMARY:Q2\, Abitur\, Sport-LK (Ausdauer)
DESCRIPTION:
URL:https://www.mnge-bielefeld.de/veranstaltung/q2-abitur-sport-lk-ausdauer-3/
LOCATION:Stadion Rußheide\, Mühlenstraße 121\, 33607 Bielefeld\, Deutschland
CATEGORIES:Alle Veranstaltungen
END:VEVENT
BEGIN:VEVENT
DTSTART;TZID=Europe/Berlin:20230424T123000
DTEND;TZID=Europe/Berlin:20230424T133000
DTSTAMP:20260419T225022
CREATED:20230206T164821Z
LAST-MODIFIED:20230228T050539Z
UID:10000303-1682339400-1682343000@www.mnge-bielefeld.de
SUMMARY:Q2\, Abitur\, Sport-LK (Ausdauer)
DESCRIPTION:
URL:https://www.mnge-bielefeld.de/veranstaltung/q2-abitur-sport-lk-ausdauer-4/
LOCATION:Ishara Badewelt\, Europapl. 1\, 33613 Bielefeld\, Deutschland
CATEGORIES:Alle Veranstaltungen
END:VEVENT
BEGIN:VEVENT
DTSTART;VALUE=DATE:20230425
DTEND;VALUE=DATE:20230426
DTSTAMP:20260419T225022
CREATED:20230206T164821Z
LAST-MODIFIED:20230228T050540Z
UID:10000305-1682380800-1682467199@www.mnge-bielefeld.de
SUMMARY:Jg. Q2\, schr. Abitur GK S
DESCRIPTION:
URL:https://www.mnge-bielefeld.de/veranstaltung/jg-q2-schr-abitur-gk-s/
CATEGORIES:Alle Veranstaltungen
END:VEVENT
BEGIN:VEVENT
DTSTART;VALUE=DATE:20230426
DTEND;VALUE=DATE:20230427
DTSTAMP:20260419T225022
CREATED:20230206T164821Z
LAST-MODIFIED:20230228T050540Z
UID:10000306-1682467200-1682553599@www.mnge-bielefeld.de
SUMMARY:Jg. Q2\, schr. Abitur LK/GK D
DESCRIPTION:
URL:https://www.mnge-bielefeld.de/veranstaltung/jg-q2-schr-abitur-lk-gk-d/
CATEGORIES:Alle Veranstaltungen
END:VEVENT
BEGIN:VEVENT
DTSTART;VALUE=DATE:20230428
DTEND;VALUE=DATE:20230429
DTSTAMP:20260419T225022
CREATED:20230206T164822Z
LAST-MODIFIED:20230228T050540Z
UID:10000307-1682640000-1682726399@www.mnge-bielefeld.de
SUMMARY:Jg. Q2\, schr. Abitur LK/GK E
DESCRIPTION:
URL:https://www.mnge-bielefeld.de/veranstaltung/jg-q2-schr-abitur-lk-gk-e/
CATEGORIES:Alle Veranstaltungen
END:VEVENT
END:VCALENDAR