BEGIN:VCALENDAR
VERSION:2.0
PRODID:-//Martin-Niemöller-Gesamtschule - ECPv6.15.20//NONSGML v1.0//EN
CALSCALE:GREGORIAN
METHOD:PUBLISH
X-WR-CALNAME:Martin-Niemöller-Gesamtschule
X-ORIGINAL-URL:https://www.mnge-bielefeld.de
X-WR-CALDESC:Veranstaltungen für Martin-Niemöller-Gesamtschule
REFRESH-INTERVAL;VALUE=DURATION:PT1H
X-Robots-Tag:noindex
X-PUBLISHED-TTL:PT1H
BEGIN:VTIMEZONE
TZID:UTC
BEGIN:STANDARD
TZOFFSETFROM:+0000
TZOFFSETTO:+0000
TZNAME:UTC
DTSTART:20220101T000000
END:STANDARD
END:VTIMEZONE
BEGIN:VTIMEZONE
TZID:Europe/Berlin
BEGIN:DAYLIGHT
TZOFFSETFROM:+0100
TZOFFSETTO:+0200
TZNAME:CEST
DTSTART:20220327T010000
END:DAYLIGHT
BEGIN:STANDARD
TZOFFSETFROM:+0200
TZOFFSETTO:+0100
TZNAME:CET
DTSTART:20221030T010000
END:STANDARD
BEGIN:DAYLIGHT
TZOFFSETFROM:+0100
TZOFFSETTO:+0200
TZNAME:CEST
DTSTART:20230326T010000
END:DAYLIGHT
BEGIN:STANDARD
TZOFFSETFROM:+0200
TZOFFSETTO:+0100
TZNAME:CET
DTSTART:20231029T010000
END:STANDARD
BEGIN:DAYLIGHT
TZOFFSETFROM:+0100
TZOFFSETTO:+0200
TZNAME:CEST
DTSTART:20240331T010000
END:DAYLIGHT
BEGIN:STANDARD
TZOFFSETFROM:+0200
TZOFFSETTO:+0100
TZNAME:CET
DTSTART:20241027T010000
END:STANDARD
END:VTIMEZONE
BEGIN:VEVENT
DTSTART;VALUE=DATE:20230508
DTEND;VALUE=DATE:20230509
DTSTAMP:20260419T141206
CREATED:20221108T062148Z
LAST-MODIFIED:20230316T131924Z
UID:10000218-1683504000-1683590399@www.mnge-bielefeld.de
SUMMARY:Jahrestag der Befreiung vom Nationalsozialismus (regionaler Feiertag)
DESCRIPTION:Gedenktag in Berlin\, Brandenburg\, Bremen\, Mecklenburg-Vorpommern\, Thüringen\nWenn Sie Gedenktage ausblenden möchten\, rufen Sie die Google Kalender-Einstellungen auf > Feiertage in Deutschland
URL:https://www.mnge-bielefeld.de/veranstaltung/jahrestag-der-befreiung-vom-nationalsozialismus-regionaler-feiertag/
CATEGORIES:Alle Veranstaltungen
END:VEVENT
BEGIN:VEVENT
DTSTART;VALUE=DATE:20230508
DTEND;VALUE=DATE:20230509
DTSTAMP:20260419T141206
CREATED:20230206T164824Z
LAST-MODIFIED:20230228T050541Z
UID:10000315-1683504000-1683590399@www.mnge-bielefeld.de
SUMMARY:Jg. Q2\, schr. Abitur GK BI\, CH\, PH\, EL\, IF (Nachschreiber)
DESCRIPTION:
URL:https://www.mnge-bielefeld.de/veranstaltung/jg-q2-schr-abitur-gk-bi-ch-ph-el-if-nachschreiber/
CATEGORIES:Alle Veranstaltungen
END:VEVENT
BEGIN:VEVENT
DTSTART;VALUE=DATE:20230509
DTEND;VALUE=DATE:20230510
DTSTAMP:20260419T141206
CREATED:20230206T164823Z
LAST-MODIFIED:20230228T050541Z
UID:10000313-1683590400-1683676799@www.mnge-bielefeld.de
SUMMARY:Jg. Q2\, schr. Abitur LK GE\, KU\, PA\, PS\, SP (Nachschreiber)
DESCRIPTION:
URL:https://www.mnge-bielefeld.de/veranstaltung/jg-q2-schr-abitur-lk-ge-ku-pa-ps-sp-nachschreiber/
CATEGORIES:Alle Veranstaltungen
END:VEVENT
BEGIN:VEVENT
DTSTART;VALUE=DATE:20230509
DTEND;VALUE=DATE:20230510
DTSTAMP:20260419T141206
CREATED:20230206T164824Z
LAST-MODIFIED:20230228T050541Z
UID:10000314-1683590400-1683676799@www.mnge-bielefeld.de
SUMMARY:Jg. 10\, ZP E5
DESCRIPTION:
URL:https://www.mnge-bielefeld.de/veranstaltung/jg-10-zp-e5/
CATEGORIES:Alle Veranstaltungen
END:VEVENT
BEGIN:VEVENT
DTSTART;TZID=Europe/Berlin:20230509T100000
DTEND;TZID=Europe/Berlin:20230509T140000
DTSTAMP:20260419T141206
CREATED:20230206T164825Z
LAST-MODIFIED:20230228T050541Z
UID:10000316-1683626400-1683640800@www.mnge-bielefeld.de
SUMMARY:Q2\, Abitur\, Sport-LK (Leichtathletik)
DESCRIPTION:
URL:https://www.mnge-bielefeld.de/veranstaltung/q2-abitur-sport-lk-leichtathletik/
LOCATION:Stadion Rußheide\, Mühlenstraße 121\, 33607 Bielefeld\, Deutschland
CATEGORIES:Alle Veranstaltungen
END:VEVENT
BEGIN:VEVENT
DTSTART;VALUE=DATE:20230510
DTEND;VALUE=DATE:20230511
DTSTAMP:20260419T141206
CREATED:20230206T164823Z
LAST-MODIFIED:20230228T050541Z
UID:10000312-1683676800-1683763199@www.mnge-bielefeld.de
SUMMARY:Jg. Q2\, schr. Abitur GK L\, T (Nachschreiber)
DESCRIPTION:
URL:https://www.mnge-bielefeld.de/veranstaltung/jg-q2-schr-abitur-gk-l-t-nachschreiber/
CATEGORIES:Alle Veranstaltungen
END:VEVENT
BEGIN:VEVENT
DTSTART;VALUE=DATE:20230511
DTEND;VALUE=DATE:20230512
DTSTAMP:20260419T141206
CREATED:20230206T164823Z
LAST-MODIFIED:20230228T050541Z
UID:10000311-1683763200-1683849599@www.mnge-bielefeld.de
SUMMARY:Jg. Q2\, schr. Abitur LK/GK E (Nachschreiber)
DESCRIPTION:
URL:https://www.mnge-bielefeld.de/veranstaltung/jg-q2-schr-abitur-lk-gk-e-nachschreiber/
CATEGORIES:Alle Veranstaltungen
END:VEVENT
BEGIN:VEVENT
DTSTART;VALUE=DATE:20230511
DTEND;VALUE=DATE:20230512
DTSTAMP:20260419T141206
CREATED:20230206T164826Z
LAST-MODIFIED:20230228T050542Z
UID:10000318-1683763200-1683849599@www.mnge-bielefeld.de
SUMMARY:Jg. 10\, ZP M
DESCRIPTION:
URL:https://www.mnge-bielefeld.de/veranstaltung/jg-10-zp-m/
CATEGORIES:Alle Veranstaltungen
END:VEVENT
BEGIN:VEVENT
DTSTART;VALUE=DATE:20230512
DTEND;VALUE=DATE:20230513
DTSTAMP:20260419T141206
CREATED:20230206T164826Z
LAST-MODIFIED:20230228T050542Z
UID:10000317-1683849600-1683935999@www.mnge-bielefeld.de
SUMMARY:Jg. Q2\, schr. Abitur GK S (Nachschreiber)
DESCRIPTION:
URL:https://www.mnge-bielefeld.de/veranstaltung/jg-q2-schr-abitur-gk-s-nachschreiber/
CATEGORIES:Alle Veranstaltungen
END:VEVENT
BEGIN:VEVENT
DTSTART;VALUE=DATE:20230514
DTEND;VALUE=DATE:20230515
DTSTAMP:20260419T141206
CREATED:20221108T062148Z
LAST-MODIFIED:20230316T131924Z
UID:10000219-1684022400-1684108799@www.mnge-bielefeld.de
SUMMARY:Muttertag
DESCRIPTION:Gedenktag\nWenn Sie Gedenktage ausblenden möchten\, rufen Sie die Google Kalender-Einstellungen auf > Feiertage in Deutschland
URL:https://www.mnge-bielefeld.de/veranstaltung/muttertag/
CATEGORIES:Alle Veranstaltungen
END:VEVENT
END:VCALENDAR