BEGIN:VCALENDAR
VERSION:2.0
PRODID:-//Martin-Niemöller-Gesamtschule - ECPv6.15.20//NONSGML v1.0//EN
CALSCALE:GREGORIAN
METHOD:PUBLISH
X-ORIGINAL-URL:https://www.mnge-bielefeld.de
X-WR-CALDESC:Veranstaltungen für Martin-Niemöller-Gesamtschule
REFRESH-INTERVAL;VALUE=DURATION:PT1H
X-Robots-Tag:noindex
X-PUBLISHED-TTL:PT1H
BEGIN:VTIMEZONE
TZID:UTC
BEGIN:STANDARD
TZOFFSETFROM:+0000
TZOFFSETTO:+0000
TZNAME:UTC
DTSTART:20220101T000000
END:STANDARD
END:VTIMEZONE
BEGIN:VTIMEZONE
TZID:Europe/Berlin
BEGIN:DAYLIGHT
TZOFFSETFROM:+0100
TZOFFSETTO:+0200
TZNAME:CEST
DTSTART:20220327T010000
END:DAYLIGHT
BEGIN:STANDARD
TZOFFSETFROM:+0200
TZOFFSETTO:+0100
TZNAME:CET
DTSTART:20221030T010000
END:STANDARD
BEGIN:DAYLIGHT
TZOFFSETFROM:+0100
TZOFFSETTO:+0200
TZNAME:CEST
DTSTART:20230326T010000
END:DAYLIGHT
BEGIN:STANDARD
TZOFFSETFROM:+0200
TZOFFSETTO:+0100
TZNAME:CET
DTSTART:20231029T010000
END:STANDARD
BEGIN:DAYLIGHT
TZOFFSETFROM:+0100
TZOFFSETTO:+0200
TZNAME:CEST
DTSTART:20240331T010000
END:DAYLIGHT
BEGIN:STANDARD
TZOFFSETFROM:+0200
TZOFFSETTO:+0100
TZNAME:CET
DTSTART:20241027T010000
END:STANDARD
END:VTIMEZONE
BEGIN:VEVENT
DTSTART;VALUE=DATE:20230529
DTEND;VALUE=DATE:20230530
DTSTAMP:20260419T225130
CREATED:20221108T062149Z
LAST-MODIFIED:20230316T131924Z
UID:10000222-1685318400-1685404799@www.mnge-bielefeld.de
SUMMARY:Pfingstmontag
DESCRIPTION:Gesetzlicher Feiertag
URL:https://www.mnge-bielefeld.de/veranstaltung/pfingstmontag/
CATEGORIES:Alle Veranstaltungen
END:VEVENT
BEGIN:VEVENT
DTSTART;VALUE=DATE:20230530
DTEND;VALUE=DATE:20230531
DTSTAMP:20260419T225130
CREATED:20230206T164830Z
LAST-MODIFIED:20230228T050544Z
UID:10000333-1685404800-1685491199@www.mnge-bielefeld.de
SUMMARY:Pfingstferien
DESCRIPTION:Pfingstferien 2023 in Nordrhein-Westfalen – Importiert von Ferienwiki.de
URL:https://www.mnge-bielefeld.de/veranstaltung/pfingstferien/
CATEGORIES:Alle Veranstaltungen
END:VEVENT
BEGIN:VEVENT
DTSTART;VALUE=DATE:20230531
DTEND;VALUE=DATE:20230603
DTSTAMP:20260419T225130
CREATED:20230213T122753Z
LAST-MODIFIED:20230228T050545Z
UID:10000348-1685491200-1685750399@www.mnge-bielefeld.de
SUMMARY:Jg. 10\, Fahrt WP1-Französisch
DESCRIPTION:
URL:https://www.mnge-bielefeld.de/veranstaltung/jg-10-fahrt-wp1-franzoesisch/
CATEGORIES:Alle Veranstaltungen
END:VEVENT
BEGIN:VEVENT
DTSTART;VALUE=DATE:20230531
DTEND;VALUE=DATE:20230617
DTSTAMP:20260419T225130
CREATED:20230206T164832Z
LAST-MODIFIED:20230228T050546Z
UID:10000343-1685491200-1686959999@www.mnge-bielefeld.de
SUMMARY:Jg. 9\, Praktikum
DESCRIPTION:
URL:https://www.mnge-bielefeld.de/veranstaltung/jg-9-praktikum/
CATEGORIES:Alle Veranstaltungen
END:VEVENT
BEGIN:VEVENT
DTSTART;TZID=Europe/Berlin:20230531T081500
DTEND;TZID=Europe/Berlin:20230531T095500
DTSTAMP:20260419T225130
CREATED:20230206T164830Z
LAST-MODIFIED:20230228T050545Z
UID:10000334-1685520900-1685526900@www.mnge-bielefeld.de
SUMMARY:EF\, Zentrale Klausur M
DESCRIPTION:
URL:https://www.mnge-bielefeld.de/veranstaltung/ef-zentrale-klausur-m/
CATEGORIES:Alle Veranstaltungen
END:VEVENT
BEGIN:VEVENT
DTSTART;VALUE=DATE:20230602
DTEND;VALUE=DATE:20230603
DTSTAMP:20260419T225130
CREATED:20230206T164830Z
LAST-MODIFIED:20230228T050545Z
UID:10000335-1685664000-1685750399@www.mnge-bielefeld.de
SUMMARY:Mission: Gegen Emission (FahrRad-AG)
DESCRIPTION:
URL:https://www.mnge-bielefeld.de/veranstaltung/mission-gegen-emission-fahrrad-ag/
CATEGORIES:Alle Veranstaltungen
END:VEVENT
BEGIN:VEVENT
DTSTART;VALUE=DATE:20230602
DTEND;VALUE=DATE:20230603
DTSTAMP:20260419T225130
CREATED:20230425T071844Z
LAST-MODIFIED:20230425T071844Z
UID:10000350-1685664000-1685750399@www.mnge-bielefeld.de
SUMMARY:Mission: Gegen Emission
DESCRIPTION:Mitmachaktionen zum Weltfahrradtag
URL:https://www.mnge-bielefeld.de/veranstaltung/mission-gegen-emission/
END:VEVENT
BEGIN:VEVENT
DTSTART;TZID=Europe/Berlin:20230602T081500
DTEND;TZID=Europe/Berlin:20230602T095500
DTSTAMP:20260419T225130
CREATED:20230206T164830Z
LAST-MODIFIED:20230228T050545Z
UID:10000336-1685693700-1685699700@www.mnge-bielefeld.de
SUMMARY:EF\, Zentrale Klausur D (Nachschreiber)
DESCRIPTION:
URL:https://www.mnge-bielefeld.de/veranstaltung/ef-zentrale-klausur-d-nachschreiber/
CATEGORIES:Alle Veranstaltungen
END:VEVENT
END:VCALENDAR