BEGIN:VCALENDAR
VERSION:2.0
PRODID:-//Martin-Niemöller-Gesamtschule - ECPv6.15.20//NONSGML v1.0//EN
CALSCALE:GREGORIAN
METHOD:PUBLISH
X-ORIGINAL-URL:https://www.mnge-bielefeld.de
X-WR-CALDESC:Veranstaltungen für Martin-Niemöller-Gesamtschule
REFRESH-INTERVAL;VALUE=DURATION:PT1H
X-Robots-Tag:noindex
X-PUBLISHED-TTL:PT1H
BEGIN:VTIMEZONE
TZID:UTC
BEGIN:STANDARD
TZOFFSETFROM:+0000
TZOFFSETTO:+0000
TZNAME:UTC
DTSTART:20220101T000000
END:STANDARD
END:VTIMEZONE
BEGIN:VEVENT
DTSTART;VALUE=DATE:20230815
DTEND;VALUE=DATE:20230816
DTSTAMP:20260420T000721
CREATED:20221108T062149Z
LAST-MODIFIED:20230316T131925Z
UID:10000226-1692057600-1692143999@www.mnge-bielefeld.de
SUMMARY:Mariä Himmelfahrt (regionaler Feiertag)
DESCRIPTION:Gedenktag in Bayern\, Saarland\, Sachsen\, Thüringen\nWenn Sie Gedenktage ausblenden möchten\, rufen Sie die Google Kalender-Einstellungen auf > Feiertage in Deutschland
URL:https://www.mnge-bielefeld.de/veranstaltung/mariae-himmelfahrt-regionaler-feiertag/
CATEGORIES:Alle Veranstaltungen
END:VEVENT
END:VCALENDAR